BEGIN:VCALENDAR
VERSION:2.0
METHOD:PUBLISH
PRODID::-//Obvius//NONSGML ICal//DA
BEGIN:VEVENT
UID:1728711@asiandynamics.ku.dk
DESCRIPTION:"Taming China: Can Asia Overcome Chinese Dominance and Avoid E
 urope's Past?" by Professor Amitav Acharya\, American University\, Washin
 gton\, DC. \n\nhttps://asiandynamics.ku.dk/aktiviteter/arrangementer/arki
 v_arrangementer/acharya/
SUMMARY:China Talks: Professor Amitav Acharya
LOCATION:CSS\, Øster Farimagsgade 5\, 1353 Cph. K\, building 35\, room 35
 .01.44
ORGANIZER:ADI\, ThinkChina.dk\, and Dept. of Political Science
DTSTART:20150309T091500Z
DTSTAMP:20150309T091500Z
DTEND:20150309T110000Z
END:VEVENT
END:VCALENDAR
