BEGIN:VCALENDAR
VERSION:2.0
METHOD:PUBLISH
PRODID::-//Obvius//NONSGML ICal//DA
BEGIN:VEVENT
UID:1244623@asiandynamics.ku.dk
DESCRIPTION:As part of the UCPH India Action Plan\, Asian Dynamics Initiat
 ive invites academic and administrative staff at UCPH working with India t
 o participate in the course Concept India Competences.\n\nhttps://asiandyn
 amics.ku.dk/aktiviteter/arrangementer/arkiv_arrangementer/cic/
SUMMARY:Concept India Competences
LOCATION:Faculty of Humanities\, Room 27.0.49\, KUA1\, Building 27\, Njals
 gade 136\, 2300 Cph. S
ORGANIZER:ADI
DTSTART:20131025T070000Z
DTSTAMP:20131025T070000Z
DTEND:20131025T150000Z
END:VEVENT
END:VCALENDAR
