BEGIN:VCALENDAR
VERSION:2.0
METHOD:PUBLISH
PRODID::-//Obvius//NONSGML ICal//DA
BEGIN:VEVENT
UID:655125@asiandynamics.ku.dk
DESCRIPTION:European Trade Study Group (ETSG) afholder sin 13. konference 
 i september i København.\n\nhttps://asiandynamics.ku.dk/aktiviteter/arran
 gementer/arkiv_arrangementer/etsg/
SUMMARY:ETSG 2011 Copenhagen
LOCATION:København - mere info følger
DTSTART:20110907T220000Z
DTSTAMP:20110907T220000Z
DTEND:20110909T220000Z
END:VEVENT
END:VCALENDAR
