BEGIN:VCALENDAR
VERSION:2.0
METHOD:PUBLISH
PRODID::-//Obvius//NONSGML ICal//DA
BEGIN:VEVENT
UID:1617065@asiandynamics.ku.dk
DESCRIPTION:Centre of Global South Asian Studies is pleased to invite you 
 to a debate seminar to release a new book on Caste in Contemporary India b
 y Surinder Singh Jodhka.\n\nhttps://asiandynamics.ku.dk/aktiviteter/arrang
 ementer/arkiv_arrangementer/jodka/
SUMMARY:Caste in Contemporary India by Surinder Singh Jodhka
CATEGORIES:seminar
LOCATION:Frokost Stue\, 3rd Floor\, Building 10\, KUA1
ORGANIZER:Centre of Global South Asian Studies
DTSTART:20141007T080000Z
DTSTAMP:20141007T080000Z
DTEND:20141007T100000Z
END:VEVENT
END:VCALENDAR
