BEGIN:VCALENDAR
VERSION:2.0
METHOD:PUBLISH
PRODID::-//Obvius//NONSGML ICal//DA
BEGIN:VEVENT
UID:1844629@asiandynamics.ku.dk
DESCRIPTION:Prof. Willy Lam guests NIAS to give a lecture based on his lat
 est publication Chinese Politics in the Era of Xi Jinping - Renaissance
 \, Reform\, or Retrogression?\n\nhttps://asiandynamics.ku.dk/aktiviteter/a
 rrangementer/arkiv_arrangementer/lam/
SUMMARY:Professor Willy Lam: The Rise of Xi Jinping and the Closing of the
  Chinese Mind
CATEGORIES:forelæsning
LOCATION:NIAS\, room 18.1.08\, CSS\, University of Copenhagen\, Øster Far
 imagsgade 5\, 1353 Cph
ORGANIZER:NIAS\, Fudan-European Centre for China Studies and ADI
DTSTART:20150616T090000Z
DTSTAMP:20150616T090000Z
END:VEVENT
END:VCALENDAR
