BEGIN:VCALENDAR
VERSION:2.0
METHOD:PUBLISH
PRODID::-//Obvius//NONSGML ICal//DA
BEGIN:VEVENT
UID:1886265@asiandynamics.ku.dk
DESCRIPTION:Public talk by Anand Sharma\,Â formerÂ Union Cabinet MinisterÂ
  in charge ofÂ Commerce and IndustryÂ andÂ TextilesÂ in theÂ Government of
  India\, and since June 2014 Deputy Leader of opposition inÂ Rajya Sabha\,
  theÂ upper houseÂ of theÂ Indian Parliament.\n\nhttps://asiandynamics.ku.
 dk/aktiviteter/arrangementer/arkiv_arrangementer/sharma/
SUMMARY:India-EU partnership and its significance in the 21st century worl
 d
LOCATION:Faculty of Humanities\, Building 27\, Njalsgade\, room 27.1.47 
ORGANIZER:ADI and Centre for Global South Asian Studies
DTSTART:20151006T083000Z
DTSTAMP:20151006T083000Z
DTEND:20151006T100000Z
END:VEVENT
END:VCALENDAR
