BEGIN:VCALENDAR
VERSION:2.0
METHOD:PUBLISH
PRODID::-//Obvius//NONSGML ICal//DA
BEGIN:VEVENT
UID:1802879@asiandynamics.ku.dk
DESCRIPTION:The 7th annual international ADI conference "Food\, Feeding\
 , and Eating In and Out of Asia" takes place at the University of Copenha
 gen on 24-26 June 2015. The conference will feature distinguished keynote
  speakers as well as interdisciplinary panels.\n\nhttps://asiandynamics.ku
 .dk/english/calendar/archive/food/
SUMMARY:ADI conference: Food\, Feeding\, and Eating in and out of Asia
LOCATION:Faculty of Humanities\, Southern Campus Building 22 Njalsgade 120
  2300 Copenhagen S.
ORGANIZER:Asian Dynamics Initiative
DTSTART:20150623T220000Z
DTSTAMP:20150623T220000Z
DTEND:20150625T220000Z
END:VEVENT
END:VCALENDAR
